BEGIN:VCALENDAR
VERSION:2.0
PRODID:-//Waterview Church of Christ - ECPv6.15.12.2//NONSGML v1.0//EN
CALSCALE:GREGORIAN
METHOD:PUBLISH
X-ORIGINAL-URL:https://waterview.org
X-WR-CALDESC:Events for Waterview Church of Christ
REFRESH-INTERVAL;VALUE=DURATION:PT1H
X-Robots-Tag:noindex
X-PUBLISHED-TTL:PT1H
BEGIN:VTIMEZONE
TZID:America/Chicago
BEGIN:DAYLIGHT
TZOFFSETFROM:-0600
TZOFFSETTO:-0500
TZNAME:CDT
DTSTART:20230312T080000
END:DAYLIGHT
BEGIN:STANDARD
TZOFFSETFROM:-0500
TZOFFSETTO:-0600
TZNAME:CST
DTSTART:20231105T070000
END:STANDARD
BEGIN:DAYLIGHT
TZOFFSETFROM:-0600
TZOFFSETTO:-0500
TZNAME:CDT
DTSTART:20240310T080000
END:DAYLIGHT
BEGIN:STANDARD
TZOFFSETFROM:-0500
TZOFFSETTO:-0600
TZNAME:CST
DTSTART:20241103T070000
END:STANDARD
BEGIN:DAYLIGHT
TZOFFSETFROM:-0600
TZOFFSETTO:-0500
TZNAME:CDT
DTSTART:20250309T080000
END:DAYLIGHT
BEGIN:STANDARD
TZOFFSETFROM:-0500
TZOFFSETTO:-0600
TZNAME:CST
DTSTART:20251102T070000
END:STANDARD
BEGIN:DAYLIGHT
TZOFFSETFROM:-0600
TZOFFSETTO:-0500
TZNAME:CDT
DTSTART:20260308T080000
END:DAYLIGHT
BEGIN:STANDARD
TZOFFSETFROM:-0500
TZOFFSETTO:-0600
TZNAME:CST
DTSTART:20261101T070000
END:STANDARD
BEGIN:DAYLIGHT
TZOFFSETFROM:-0600
TZOFFSETTO:-0500
TZNAME:CDT
DTSTART:20270314T080000
END:DAYLIGHT
BEGIN:STANDARD
TZOFFSETFROM:-0500
TZOFFSETTO:-0600
TZNAME:CST
DTSTART:20271107T070000
END:STANDARD
END:VTIMEZONE
BEGIN:VEVENT
DTSTART;TZID=America/Chicago:20260419T173000
DTEND;TZID=America/Chicago:20260419T200000
DTSTAMP:20260425T115118
CREATED:20240318T192726Z
LAST-MODIFIED:20260324T195846Z
UID:8443-1776619800-1776628800@waterview.org
SUMMARY:LTC Awards Banquet
DESCRIPTION:Our evening worship assembly at 5:30pm will highlight some of what our youth have been participating in these last several months. Following that\, we will have our banquet where we will eat a great meal (tacos and enchiladas) together\, give students their awards\, and get to hear from some of our coaches who have been working with our young people.  Tickets can be purchased until April 15 by clicking HERE
URL:https://waterview.org/event/ltc-awards-banquet/
LOCATION:Waterview church of Christ\, 1409 N. Waterview Dr\, Richardson\, TX\, 75080
CATEGORIES:Children,Community Outreach,Featured,General Adults,Young Adults,Youth
ATTACH;FMTTYPE=image/jpeg:https://waterview.org/wp-content/uploads/2024/03/LTC-awards-banquet-COMPRESSED-scaled.jpg
END:VEVENT
BEGIN:VEVENT
DTSTART;TZID=America/Chicago:20260329T110000
DTEND;TZID=America/Chicago:20260329T123000
DTSTAMP:20260425T115118
CREATED:20250820T033610Z
LAST-MODIFIED:20250910T150525Z
UID:9224-1774782000-1774787400@waterview.org
SUMMARY:5th Sunday Potluck
DESCRIPTION:
URL:https://waterview.org/event/5th-sunday-potluck/
LOCATION:Waterview church of Christ\, 1409 N. Waterview Dr\, Richardson\, TX\, 75080
CATEGORIES:Children,College and Young Professional,Community Outreach,Featured,General Adults,Primetimers,Singles,Womens Ministry,Young Adults,Youth
ATTACH;FMTTYPE=image/jpeg:https://waterview.org/wp-content/uploads/2025/08/5th-Sunday-Potluck-logo.jpg
END:VEVENT
BEGIN:VEVENT
DTSTART;TZID=America/Chicago:20251206T093000
DTEND;TZID=America/Chicago:20251206T110000
DTSTAMP:20260425T115118
CREATED:20251118T020003Z
LAST-MODIFIED:20251118T020003Z
UID:9367-1765013400-1765018800@waterview.org
SUMMARY:Breakfast with Santa
DESCRIPTION:Our annual Breakfast with Santa will be Saturday\, December 6 from 9:30-11:00 am in the “North Pole Town Square”\, which is in the south end of the church building.\nThere is a food sign-up sheet at the Sign Up Counter. We will be collecting unwrapped gifts and diapers for ChristianWorks “Becoming Mom” Program. Please bring your children and grandchildren\, and invite friends for a morning of Christmas fun!
URL:https://waterview.org/event/breakfast-with-santa/
LOCATION:Waterview church of Christ\, 1409 N. Waterview Dr\, Richardson\, TX\, 75080
CATEGORIES:Children,Community Outreach,Featured,General Adults,Young Adults,Youth
ATTACH;FMTTYPE=image/png:https://waterview.org/wp-content/uploads/2017/11/breakfast-with-santa-featured.png
END:VEVENT
BEGIN:VEVENT
DTSTART;TZID=America/Chicago:20251026T163000
DTEND;TZID=America/Chicago:20251026T190000
DTSTAMP:20260425T115118
CREATED:20240917T145147Z
LAST-MODIFIED:20250923T222732Z
UID:8701-1761496200-1761505200@waterview.org
SUMMARY:Trunk or Treat
DESCRIPTION:On October 26th\, come join us at 4:30 inside our building for indoor Trunk or Treating! There will be games and activities for kids; and you may find some coffee available as well!\nAt 5:30 join us for Worship in the south fellowship area followed by a Chili Cook-Off.
URL:https://waterview.org/event/trunk-or-treat/
LOCATION:Waterview church of Christ\, 1409 N. Waterview Dr\, Richardson\, TX\, 75080
CATEGORIES:Children,College and Young Professional,Community Outreach,Featured,General Adults,Missions,Primetimers,Singles,Womens Ministry,Young Adults,Youth
ATTACH;FMTTYPE=image/jpeg:https://waterview.org/wp-content/uploads/2024/09/T-or-T-2025-16-9.jpg
END:VEVENT
BEGIN:VEVENT
DTSTART;TZID=America/Chicago:20251019T113000
DTEND;TZID=America/Chicago:20251019T160000
DTSTAMP:20260425T115118
CREATED:20250820T215700Z
LAST-MODIFIED:20250829T134819Z
UID:9219-1760873400-1760889600@waterview.org
SUMMARY:Ladies Friendship Day
DESCRIPTION:You Are Invited\nSunday\, October 19th\n11:30 am – 4:00 pm\n\nJoin us for an afternoon of fun and fellowship where we celebrate\nthe joys of sisterhood available to us in Jesus Christ.\n\n\n\n$10 per person\nnon-Waterview members are our guests\n\nTo register or for questions\, click the link below:\nRegister HERE\n\n\n\n\n\n\nSpeaker: JJ Davenport\n\n\n\n\nOur speaker received her BA in Biblical Studies from Heritage Christian University and her MA in Education from Western Governors University. She is currently pursuing another degree as a Biblical Studies Major with History of Biblical Interpretation and Theology.\n\nShe has spoken at ladies’ days and retreats throughout the Southeast and Europe and is the host for a Facebook ladies devotional group. She and her husband\, Larry\, and their family attend the Jackson Heights Church of Christ in Florence\, AL where he serves as the youth and family minister.
URL:https://waterview.org/event/ladies-friendship-day/
LOCATION:Waterview church of Christ\, 1409 N. Waterview Dr\, Richardson\, TX\, 75080
CATEGORIES:College and Young Professional,Community Outreach,Featured,General Adults,Primetimers,Singles,Womens Ministry,Young Adults
ATTACH;FMTTYPE=image/jpeg:https://waterview.org/wp-content/uploads/2025/08/ladies-day-25.jpg
END:VEVENT
BEGIN:VEVENT
DTSTART;VALUE=DATE:20250720
DTEND;VALUE=DATE:20250724
DTSTAMP:20260425T115118
CREATED:20250611T211502Z
LAST-MODIFIED:20250611T211502Z
UID:9125-1752969600-1753315199@waterview.org
SUMMARY:VBS 2025
DESCRIPTION:
URL:https://waterview.org/event/vbs-2025/
LOCATION:Waterview church of Christ\, 1409 N. Waterview Dr\, Richardson\, TX\, 75080
CATEGORIES:Children,Community Outreach,Featured,General Adults,Young Adults,Youth
ATTACH;FMTTYPE=image/png:https://waterview.org/wp-content/uploads/2025/06/vbs2025logo.png
END:VEVENT
BEGIN:VEVENT
DTSTART;TZID=America/Chicago:20250604T190000
DTEND;TZID=America/Chicago:20250827T200000
DTSTAMP:20260425T115118
CREATED:20250506T170733Z
LAST-MODIFIED:20250613T220140Z
UID:9080-1749063600-1756324800@waterview.org
SUMMARY:Summer Series
DESCRIPTION:Join us on Wednesday nights in June\, July and August at 7:00pm for our Summer Series!\nEach week we’ll hear a message from a guest preacher who will share with us a message from the word. This year’s schedule includes:\nJune 4 – Cory Collins from Keller\nJune 11 – Steve Minor from Wylie\nJune 18 – Tim Lewis from Oklahoma City\, OK\nJune 25 – Steve Bailey from Waxahachie\nJuly 2 is our Singing & Ice Cream fellowship\nJuly 9 – Keith Harris from Lewisville\nJuly 16 – Phillip Johnson from Norman\, OK\nJuly 23 is our Vacation Bible School\nJuly 30 – Willie B. Williams III from The Colony\nAugust 6 – Anthony Warnes from Corsicana\nAugust 13 – Kevin Langford from Lewisville\nAugust 20 – Logan Cates from Durant\, OK\nAugust 27 – Jacob Hawk from Dallas
URL:https://waterview.org/event/summer-series/
LOCATION:Waterview church of Christ\, 1409 N. Waterview Dr\, Richardson\, TX\, 75080
CATEGORIES:College and Young Professional,Community Outreach,Featured,General Adults,Primetimers,Singles,Womens Ministry,Young Adults,Youth
ATTACH;FMTTYPE=image/png:https://waterview.org/wp-content/uploads/2025/05/Summer-Series.png
END:VEVENT
BEGIN:VEVENT
DTSTART;TZID=America/Chicago:20250322T180000
DTEND;TZID=America/Chicago:20250322T203000
DTSTAMP:20260425T115118
CREATED:20250206T173756Z
LAST-MODIFIED:20250206T173756Z
UID:8936-1742666400-1742675400@waterview.org
SUMMARY:Marriage Night
DESCRIPTION:
URL:https://waterview.org/event/marriage-night/
LOCATION:Waterview church of Christ\, 1409 N. Waterview Dr\, Richardson\, TX\, 75080
CATEGORIES:Children,College and Young Professional,Community Outreach,Featured,General Adults,Primetimers,Womens Ministry,Young Adults
ATTACH;FMTTYPE=image/jpeg:https://waterview.org/wp-content/uploads/2025/02/Marriage-Night-Presentation.jpg
END:VEVENT
BEGIN:VEVENT
DTSTART;VALUE=DATE:20240728
DTEND;VALUE=DATE:20240801
DTSTAMP:20260425T115118
CREATED:20240522T211033Z
LAST-MODIFIED:20240522T211033Z
UID:8520-1722124800-1722470399@waterview.org
SUMMARY:Vacation Bible School 2024
DESCRIPTION:
URL:https://waterview.org/event/vacation-bible-school-2024/
LOCATION:Waterview church of Christ\, 1409 N. Waterview Dr\, Richardson\, TX\, 75080
CATEGORIES:Children,Community Outreach,Featured,Youth
ATTACH;FMTTYPE=image/png:https://waterview.org/wp-content/uploads/2024/05/VBS-LOGO-Linear-e1716412204333.png
END:VEVENT
END:VCALENDAR